BEGIN:VCALENDAR
VERSION:2.0
PRODID:-//Nexa PI - ECPv4.6.3//NONSGML v1.0//EN
CALSCALE:GREGORIAN
METHOD:PUBLISH
X-WR-CALNAME:Nexa PI
X-ORIGINAL-URL:https://nexa.org.br/pi
X-WR-CALDESC:Events for Nexa PI
BEGIN:VEVENT
DTSTART;TZID=UTC+0:20161217T190000
DTEND;TZID=UTC+0:20161217T190000
DTSTAMP:20260419T161718
CREATED:20171104T065912Z
LAST-MODIFIED:20171106T072803Z
UID:227-1482001200-1482001200@nexa.org.br
SUMMARY:Nexa Pré-Réveillon
DESCRIPTION:O Nexa Piauí realizou o primeiro Nexa Pré-Réveillon! O evento foi colorido e receptivo com integração entre a nova gestão de 2017 e os novos associados. É importante ressaltar a comemoração ao grande vínculo e trabalho dentro núcleo e brindar com boas energias para o ano de 2017! \nO Nexa Piauí agradece ao associado a presença e o entusiasmo em tornar o nosso núcleo mais colorido e significativo. Fiquem atentos às próximas atividades que virão. \nGestão 2017 – Conectando Experiências \n
URL:https://nexa.org.br/pi/agenda/nexa-pre-reveillon/
LOCATION:Rua Taumaturgo de Azevedo\, 1778 - Centro\, Teresina\, Piauí\, Brasil
ORGANIZER;CN="Nexa%20PI":MAILTO:nexa.japi@nexa.org.br
END:VEVENT
END:VCALENDAR