BEGIN:VCALENDAR
VERSION:2.0
PRODID:-//Nexa PI - ECPv4.6.3//NONSGML v1.0//EN
CALSCALE:GREGORIAN
METHOD:PUBLISH
X-WR-CALNAME:Nexa PI
X-ORIGINAL-URL:https://nexa.org.br/pi
X-WR-CALDESC:Events for Nexa PI
BEGIN:VEVENT
DTSTART;TZID=UTC+0:20170217T170000
DTEND;TZID=UTC+0:20170217T170000
DTSTAMP:20260419T124415
CREATED:20171105T224922Z
LAST-MODIFIED:20171106T071228Z
UID:350-1487350800-1487350800@nexa.org.br
SUMMARY:Nexa Folia
DESCRIPTION:Na noite de uma sexta-feira foi realizado o primeiro Nexa Folia no núcleo piauiense! Tiveram dinâmicas com o intuito de aproximar os associados e levar a energia de carnaval. É com prazer que comemoramoss com muita alegria essa folia que só vocês que fazem parte\, sabem como fazê-la. \nAgradecemos a presença e a energia de todos que agregaram ao evento. Até o próximo\, amores! \nGestão 2017 – Conectando Experiências \nYoutube: https://www.youtube.com/watch?v=dE3mwjBOVJM \n
URL:https://nexa.org.br/pi/agenda/nexa-folia/
LOCATION:Av. Pedro Freitas 1401\, Teresina\, Piauí\, Brasil
ORGANIZER;CN="Nexa%20PI":MAILTO:nexa.japi@nexa.org.br
END:VEVENT
END:VCALENDAR