BEGIN:VCALENDAR
VERSION:2.0
PRODID:-//Nexa PI - ECPv4.6.3//NONSGML v1.0//EN
CALSCALE:GREGORIAN
METHOD:PUBLISH
X-WR-CALNAME:Nexa PI
X-ORIGINAL-URL:https://nexa.org.br/pi
X-WR-CALDESC:Events for Nexa PI
BEGIN:VEVENT
DTSTART;VALUE=DATE:20170526
DTEND;VALUE=DATE:20170528
DTSTAMP:20260420T042057
CREATED:20171105T231556Z
LAST-MODIFIED:20171106T072954Z
UID:360-1495756800-1495929599@nexa.org.br
SUMMARY:PDCN
DESCRIPTION:Nos dias 26 e 27 de maio\, aconteceu o Programa de Desenvolvimento e Capacitação do Nexa Brasil\, em Campo Grande – MS. As lideranças de 13 estados do país se encontraram para discutir sobre assuntos relevantes sobre a Rede\, além de conectarem todo o conhecimento. \nDesenvolver líderes através de experiências empreendedoras é o que queremos fazer\, agora vamos por em prática tudo que aprendemos! Valeu galera! \nYoutube: https://www.youtube.com/watch?v=7bHvCi9m1tY \n
URL:https://nexa.org.br/pi/agenda/pdcn/
LOCATION:Campo Grande\, Mato Grosso do Sul\, Brasil
ORGANIZER;CN="Nexa%20Brasil":MAILTO:comunicacao@nexa.org.br
END:VEVENT
BEGIN:VEVENT
DTSTART;TZID=UTC+0:20170527T180000
DTEND;TZID=UTC+0:20170527T180000
DTSTAMP:20260420T042057
CREATED:20171106T064805Z
LAST-MODIFIED:20171106T072204Z
UID:366-1495908000-1495908000@nexa.org.br
SUMMARY:Nexa Cultural
DESCRIPTION:No último sábado de maio (27)\, ocorreu a segunda edição do Nexa Cultural! A noite contou com show de exposições artísticas e artesanais\, além do nosso palco aberto com apresentações incríveis. ?\nGostaríamos de agradecer ao espaço @edificiothedoors\, que acredita na liderança de jovens empreendedores e pelo incrível espaço! \nAos nossos expositores\, Lúcia Gonçalves\, Plaie Store\, Wêiler Barroso e Bonego Chocolates\, por representarem a diversidade da arte e mostrando que empreendedorismo é além do que se vê dentro do Nexa Piauí! \nE também aos que compareceram no evento\, por mostrarem valor ao Nexa\, música e à cultura! Até o próximo! ? \nGestão 2017 – Conectando Experiências \nVídeo: https://www.facebook.com/nexapi/videos/1547319098633630/ \n
URL:https://nexa.org.br/pi/agenda/nexa-cultural/
LOCATION:R. Gen. Aldemar Rocha\, 2565 - Horto.\, Teresina\, Piauí\, Brasil
ORGANIZER;CN="Nexa%20PI":MAILTO:nexa.japi@nexa.org.br
END:VEVENT
END:VCALENDAR