BEGIN:VCALENDAR
VERSION:2.0
PRODID:-//Nexa PI - ECPv4.6.3//NONSGML v1.0//EN
CALSCALE:GREGORIAN
METHOD:PUBLISH
X-WR-CALNAME:Nexa PI
X-ORIGINAL-URL:https://nexa.org.br/pi
X-WR-CALDESC:Events for Nexa PI
BEGIN:VEVENT
DTSTART;TZID=UTC+0:20170430T153000
DTEND;TZID=UTC+0:20170430T180000
DTSTAMP:20260420T055401
CREATED:20171105T230140Z
LAST-MODIFIED:20171106T072720Z
UID:356-1493566200-1493575200@nexa.org.br
SUMMARY:1010
DESCRIPTION:o Nexa Piauí realizou pela segunda vez\, o 1010 maneiras de comprar um livro sem dinheiro no dia 30 de abril! Um projeto da Rede Nexa com a AÇÃO SOCIAL de desenvolver os jovens por meio do consumo consciente acompanhado de leitura e muito empreendedorismo de maneira divertida! \nGestão 2017 – Conectando Experiências \nYoutube: https://www.youtube.com/watch?v=UCAMdIcLy4U \n
URL:https://nexa.org.br/pi/agenda/1010/
LOCATION:Av. Frei Serafim\, 110 - Centro (Sul)\, Teresina\, Piauí\, 64000-020\, Brasil
ORGANIZER;CN="Nexa%20PI":MAILTO:nexa.japi@nexa.org.br
END:VEVENT
END:VCALENDAR