BEGIN:VCALENDAR
VERSION:2.0
PRODID:-//Nexa MS - ECPv4.6.11.1//NONSGML v1.0//EN
CALSCALE:GREGORIAN
METHOD:PUBLISH
X-WR-CALNAME:Nexa MS
X-ORIGINAL-URL:https://nexa.org.br/ms
X-WR-CALDESC:Events for Nexa MS
BEGIN:VEVENT
DTSTART;TZID=UTC+0:20180714T180000
DTEND;TZID=UTC+0:20180714T230000
DTSTAMP:20260421T123137
CREATED:20171201T170103Z
LAST-MODIFIED:20190205T025815Z
UID:220-1531591200-1531609200@nexa.org.br
SUMMARY:Nexa Arraiá 2018
DESCRIPTION: \n
URL:https://nexa.org.br/ms/agenda/nexa-movie/
ATTACH;FMTTYPE=image/jpeg:https://nexa.org.br/ms/wp-content/uploads/2017/12/NEXA-MOVIE-.jpg
ORGANIZER;CN="Nexa%20MS":MAILTO:nexa.jams@nexa.org.br
END:VEVENT
END:VCALENDAR