﻿BEGIN:VCALENDAR
VERSION:2.0
PRODID:-//Nexa Curitiba - ECPv4.6.3//NONSGML v1.0//EN
CALSCALE:GREGORIAN
METHOD:PUBLISH
X-WR-CALNAME:Nexa Curitiba
X-ORIGINAL-URL:https://nexa.org.br/ctba
X-WR-CALDESC:Events for Nexa Curitiba
BEGIN:VEVENT
DTSTART;TZID=UTC+0:20170723T143000
DTEND;TZID=UTC+0:20170723T230000
DTSTAMP:20260421T183650
CREATED:20171103T001158Z
LAST-MODIFIED:20171103T001158Z
UID:265-1500820200-1500850800@nexa.org.br
SUMMARY:Nexa Arraiá
DESCRIPTION:Cai\, cai\, balão\, cai\, cai\, balão\, aqui no Nexa Arraiá!\nO Nexa em parceria com O Penal Coworking tá preparando uma festança daquelas!\nEla vai acontecer dia 23 de julho lá no O Penal.\nEndereço: Rua Francisco de Paula Guimarães\, 70\, Ahú\, Curitiba – Paraná\, 80540-450.\nHorário: às 15 horas e a entrada é gratuita.\nViu? vai ter muita comida boa e atividade pra se divertir\, ocê não vai ficar de fora dessa né? Contamos com a sua presença! \n
URL:https://nexa.org.br/ctba/agenda/nexa-arraia/
ATTACH;FMTTYPE=image/jpeg:https://nexa.org.br/ctba/wp-content/uploads/2017/11/arraiacapa.jpg
ORGANIZER;CN="Nexa%20Curitiba":MAILTO:nexa.japr.ctba@nexa.org.br
END:VEVENT
END:VCALENDAR