﻿BEGIN:VCALENDAR
VERSION:2.0
PRODID:-//Nexa Curitiba - ECPv4.6.3//NONSGML v1.0//EN
CALSCALE:GREGORIAN
METHOD:PUBLISH
X-WR-CALNAME:Nexa Curitiba
X-ORIGINAL-URL:https://nexa.org.br/ctba
X-WR-CALDESC:Events for Nexa Curitiba
BEGIN:VEVENT
DTSTART;TZID=UTC+0:20180128T150000
DTEND;TZID=UTC+0:20180128T180000
DTSTAMP:20260421T214236
CREATED:20180124T182942Z
LAST-MODIFIED:20180124T183341Z
UID:379-1517151600-1517162400@nexa.org.br
SUMMARY:Motirõ
DESCRIPTION:O Motirõ é o primeiro evento de 2018 do Nexa Curitiba e ele visa ser um reencontro dos associados após o período de férias para a realização atividades que trazem discussão sobre o núcleo\, sendo uma explosão de ideias e uma enorme descontração. \nO nome do evento\, Motirõ\, tem origem tupi-guarani e significa reunir pessoas para colheita ou construção de algo juntos\, sempre ajudando uns aos outros. Prega\, de forma prática\, a importância de ajudarmos os nossos irmãos\, e de estarmos com eles por um bem coletivo e maior do que focar apenas em nossa própria necessidade. \nEle acontecerá dia 28 de janeiro\, às 15 horas no Museu Oscar Niemeyer. \n
URL:https://nexa.org.br/ctba/agenda/motiro/
LOCATION:R. Mal. Hermes\, 999 - Centro Cívico\, Curitiba - PR\,\, Curitiba\, Paraná\, 80530-230\, Brasil
ATTACH;FMTTYPE=image/jpeg:https://nexa.org.br/ctba/wp-content/uploads/2018/01/modelo.jpg
ORGANIZER;CN="Nexa%20Curitiba":MAILTO:nexa.japr.ctba@nexa.org.br
END:VEVENT
END:VCALENDAR