﻿BEGIN:VCALENDAR
VERSION:2.0
PRODID:-//Nexa Curitiba - ECPv4.6.3//NONSGML v1.0//EN
CALSCALE:GREGORIAN
METHOD:PUBLISH
X-WR-CALNAME:Nexa Curitiba
X-ORIGINAL-URL:https://nexa.org.br/ctba
X-WR-CALDESC:Events for Nexa Curitiba
BEGIN:VEVENT
DTSTART;TZID=UTC+0:20171118T140000
DTEND;TZID=UTC+0:20171118T180000
DTSTAMP:20260421T203111
CREATED:20171102T222121Z
LAST-MODIFIED:20171120T195501Z
UID:219-1511013600-1511028000@nexa.org.br
SUMMARY:1010 Maneiras de Comprar Um Livro Sem Dinheiro
DESCRIPTION:O 1010 Maneiras de Comprar Um Livro Sem Dinheiro é um evento que surgiu na Espanha através de uma agência de publicidade chamada Carlitos e Patricia\, que buscavam incentivar a leitura e a reflexão sobre o consumismo e a sustentabilidade. O evento surge como uma comemoração do Dia Internacional do Livro\, no dia 23 de abril\, com a proposta para que os livreiros vendam seus livros por boas ações feitas pelos clientes na hora\, como ligar para a mãe\, abraçar um estranho\, comer uma fruta. \nA Rede Nexa adota o evento através do Nexa Pará e em 2017 o Nexa Curitiba realiza seu primeiro evento\, com o apoio da Prefeitura Municipal de Curitiba\, da Outside Estamparia e da gráfica Copy City. \nForam arrecadados mais de 1200 exemplares para o evento\, que foi realizado no Bosque Alemão\, em Curitiba. Ele contou com 15 staffs\, sendo 4 deles intercambistas. \n
URL:https://nexa.org.br/ctba/agenda/1010-maneiras-de-comprar-um-livro-sem-dinheiro/
LOCATION:Rua Francisco Schaffer\, Curitiba\, Paraná\, 80820-200\, Brasil
ATTACH;FMTTYPE=image/jpeg:https://nexa.org.br/ctba/wp-content/uploads/2017/11/capa.jpg
ORGANIZER;CN="Nexa%20Curitiba":MAILTO:nexa.japr.ctba@nexa.org.br
END:VEVENT
END:VCALENDAR